BEGIN:VCALENDAR
VERSION:2.0
PRODID:-//   NAR - ANON  - ECPv6.15.15//NONSGML v1.0//EN
CALSCALE:GREGORIAN
METHOD:PUBLISH
X-ORIGINAL-URL:https://www.nar-anon.pl
X-WR-CALDESC:Wydarzenia dla    NAR - ANON 
REFRESH-INTERVAL;VALUE=DURATION:PT1H
X-Robots-Tag:noindex
X-PUBLISHED-TTL:PT1H
BEGIN:VTIMEZONE
TZID:UTC
BEGIN:STANDARD
TZOFFSETFROM:+0000
TZOFFSETTO:+0000
TZNAME:UTC
DTSTART:20240101T000000
END:STANDARD
END:VTIMEZONE
BEGIN:VEVENT
DTSTART;TZID=UTC:20250217T100000
DTEND;TZID=UTC:20250217T113000
DTSTAMP:20260417T214222
CREATED:20250201T135937Z
LAST-MODIFIED:20250201T140134Z
UID:3353-1739786400-1739791800@www.nar-anon.pl
SUMMARY:Mityng Online Grupy Równowaga
DESCRIPTION:  \n  \n  \n  \n  \n  \n  \n  \n  \nMityng Grupy Równowaga odbywa się w każdy poniedziałek i piątek na platformie Skype. \n Link do mityngu https://join.skype.com/u26V6qJQju9g 
URL:https://www.nar-anon.pl/event/mityng-online-grupy-rownowaga-2/
CATEGORIES:Kalendarz
END:VEVENT
END:VCALENDAR