BEGIN:VCALENDAR
VERSION:2.0
PRODID:-//wp-events-plugin.com//7.2.3.1//EN
BEGIN:VEVENT
UID:4@nar-anon.pl
DTSTART:20230903T170000Z
DTEND:20230904T190000Z
DTSTAMP:20230811T050038Z
URL:https://www.nar-anon.pl/events/wirtualne-warsztaty-dwunastu-krokow-202
 3-09-03/
SUMMARY:Wirtualne Warsztaty Dwunastu Kroków
DESCRIPTION:Wirtualne Warsztaty Dwunastu Kroków\n\n
END:VEVENT
BEGIN:VEVENT
UID:5@nar-anon.pl
DTSTART:20231001T170000Z
DTEND:20231002T190000Z
DTSTAMP:20230811T050038Z
URL:https://www.nar-anon.pl/events/wirtualne-warsztaty-dwunastu-krokow-202
 3-10-01/
SUMMARY:Wirtualne Warsztaty Dwunastu Kroków
DESCRIPTION:Wirtualne Warsztaty Dwunastu Kroków\n\n
END:VEVENT
BEGIN:VEVENT
UID:6@nar-anon.pl
DTSTART:20231105T170000Z
DTEND:20231106T190000Z
DTSTAMP:20230811T050038Z
URL:https://www.nar-anon.pl/events/wirtualne-warsztaty-dwunastu-krokow-202
 3-11-05/
SUMMARY:Wirtualne Warsztaty Dwunastu Kroków
DESCRIPTION:Wirtualne Warsztaty Dwunastu Kroków\n\n
END:VEVENT
BEGIN:VEVENT
UID:7@nar-anon.pl
DTSTART:20231203T170000Z
DTEND:20231204T190000Z
DTSTAMP:20241021T064602Z
URL:https://www.nar-anon.pl/events/wirtualne-warsztaty-dwunastu-krokow-202
 3-12-03/
SUMMARY:Wirtualne Warsztaty Dwunastu Kroków
DESCRIPTION:Wirtualne Warsztaty Dwunastu Kroków\n\n
CATEGORIES:Warszaty
END:VEVENT
BEGIN:VEVENT
UID:8@nar-anon.pl
DTSTART:20240502T000000Z
DTEND:20240531T234500Z
DTSTAMP:20241023T062301Z
URL:https://www.nar-anon.pl/events/wirtualne-warsztaty-z-dwunastu-tradycji
 /
SUMMARY:WIRTUALNE WARSZTATY Z  DWUNASTU TRADYCJI
DESCRIPTION:Zapraszamy do udziału w  tworzeniu Warsztatów z Dwunastu Trad
 ycji.\nRAZEM MOŻEMY WIĘCEJ 
END:VEVENT
BEGIN:VEVENT
UID:15@nar-anon.pl
DTSTART:20241124T150000Z
DTEND:20241124T183000Z
DTSTAMP:20241119T233800Z
URL:https://www.nar-anon.pl/events/https-www-nar-anon-pl-event-single-post
 -name/
SUMMARY:ŚWIATOWY KOMITET SŁUŻB
DESCRIPTION:Światowy Komitet Służb ds. Struktury Służb Nar-Anon zapras
 za na spotkanie Okrągłego Stołu\n„Regiony Pomagają innym Regionom”
  Niedziela 24 listopada 2024 r. godzina 8:00 – 11:30 Czasu pacyficzne
 go\nkliknij tutaj\, aby sprawdzić czas spotkania w twoim kraju.\nTemat sp
 otkania: „Służba pełniona przez Skarbników Nar-Anon”\nJeśli jeste
 ś skarbnikiem Nar-Anon lub myślisz o zaoferowaniu swojej pomocy\, będzi
 e to okazja do uczenia się od innych\, wymiany pomysłów i zadawania pyt
 ań.\nSpotkanie na Zoom ID 830 3372 8391 z hasłem 558110\n\n\n E-mail:
  naranon.service.structure@gmail.com
ATTACH;FMTTYPE=image/jpeg:https://i0.wp.com/www.nar-anon.pl/wp-content/upl
 oads/2024/11/ImportedPhoto_1732041756846.jpg?fit=1728%2C2304&ssl=1
END:VEVENT
BEGIN:VEVENT
UID:16@nar-anon.pl
DTSTART:20250101T060000Z
DTEND:20250102T060000Z
DTSTAMP:20241203T133655Z
URL:https://www.nar-anon.pl/events/https-www-nar-anon-pl-events-mityng-nar
 -anon-house-party/
SUMMARY:Światowa Impreza Domowa Nar-Anon
DESCRIPTION:Witajcie Rodzino\, Zacznijcie 2025 z 1440 minutami odzyskiwania
  Nar-Anon. To 24 mityngi w ciągu 24 godzin!\nGrupy Rodzinne Nar-Anon Regi
 onu Gór Skalistych z radością ogłaszają nasz 5 Nowy Rok\, Nowy Ty\nŚ
 wiatowa Impreza Domowa 24 mityngi w ciągu 24 godzin. Zachęcamy do udost
 ępnienia tego e-maila innym Grupom Rodzinnym Nar-Anon w Twoim regionie lu
 b kraju.\nMożliwość zapisania się na poprowadzenie godzinnego mityngu 
 tematycznego jest dostępna. 24 grupy na całym świecie mają możliwoś
 ć poprowadzenia godzinnego mityngu. Liczba miejsc jest ograniczona. Mail 
 poniżej zawiera link\, aby wybrać temat.\nRozpoczęcie 1 Stycznia 2025r
 . o 2:00 czasu PL w wirtualnej sali spotkań RMR na  https://naranonrmr.
 org/\nZakończenie 2 Stycznia 2025r. o 2:00 czasu PL\nLink do formularza r
 ejestracyjnego znajduje się poniżej. Wybierz temat\, język i przedział
  czasowy.\nhttps://docs.google.com/forms/d/1yMiIsxnXr0a7Oz_yqRNRC1HOK4Fw9s
 noZJR0k0ZW-w0/viewform?ts=670c2c54&amp\;edit_requested=true
ATTACH;FMTTYPE=image/jpeg:https://i0.wp.com/www.nar-anon.pl/wp-content/upl
 oads/2024/12/Zakonczenie_20241203_134701_0000.png?fit=1080%2C1080&ssl=1
END:VEVENT
BEGIN:VEVENT
UID:19@nar-anon.pl
DTSTART;TZID=Europe/Warsaw:20250117T013000
DTEND;TZID=Europe/Warsaw:20250117T033000
DTSTAMP:20250108T143106Z
URL:https://www.nar-anon.pl/events/mityng-spikerski-19-rocznicy-w-nar-anon
 /
SUMMARY:Mityng Spikerski 19 Rocznicy w Nar-Anon
DESCRIPTION:Grupa Rodzinna Willow Grove zaprasza na mityng spikerski z okaz
 ji 19 Rocznicy w Nar-Anon.\n\nSpotkanie odbędzie się na platformie Zoom
  17 Stycznia 2025 o godzinie 1:30 czasu PL\n\nPoniżej znajduje się link 
 do mityngu:\n\nhttps://us02web.zoom.us/j/85804395394?pwd=aVVyMDE2eWh\n\nKo
 d dostępu: Serenity\n\nWillow Grove\, na dobrej drodze 19 Rocznica w Nar
 -Anon.pdf\n\nhttps://www.nar-anon.org/s/2025-Anniversary-Flyer.pdf\n\n\n\n
 &nbsp\;
END:VEVENT
BEGIN:VEVENT
UID:18@nar-anon.pl
DTSTART;TZID=Europe/Warsaw:20250124T200000
DTEND;TZID=Europe/Warsaw:20250124T220000
DTSTAMP:20250107T093108Z
URL:https://www.nar-anon.pl/events/mityng-spikerski/
SUMMARY:MITYNG SPIKERSKI
DESCRIPTION:GRUPA RODZINNA \nNAR-ANON\n \,\,RÓWNOWAGA\,\,\nSerdecznie zapr
 asza na mityng spikerski 24 Stycznia 2025r. Piątek Godzina 20:00 na platf
 ormie Skype  https://join.skype.com/u26V6qJQju9g\nTemat spikerki:\n \,\,C
 zy wspólnota Nar-Anon pomogła otworzyć mój umysł na możliwość nowe
 go sposobu życia?"\nDoświadczeniem podzieli się\n Izabela\n\n\n\n&nbsp\
 ;
END:VEVENT
BEGIN:VEVENT
UID:69@nar-anon.pl
DTSTART:20250223T160000Z
DTEND:20250223T160000Z
DTSTAMP:20250220T185319Z
URL:https://www.nar-anon.pl/events/sekretarze-przy-okraglym-stole/
SUMMARY:SEKRETARZE PRZY OKRĄGŁYM STOLE
DESCRIPTION:Światowy Komitet Służb Ad Hoc ds. Rozwoju Struktury Służb 
 Nar-Anon zaprasza na spotkanie przy Okrągłym Stole Sekretarzy Grup Rodzi
 nnych Nar-Anon 23 Lutego 2025 Niedziela Godzinie 17:00 Czasu PL Spotkani
 e odbędzie się na platformie Zoom\n\nAby dołączyć do okrągłego sto
 łu: https://us02web.zoom.us/j/83033728391?pwd=QnhTODRrSVZHN3Rsd2NUaUYwem
 lWQT09\n\nID spotkania: 830 3372 8391 Kod dostępu: 558110
ATTACH;FMTTYPE=image/jpeg:https://i0.wp.com/www.nar-anon.pl/wp-content/upl
 oads/2025/02/image_2025_02_10T09_21_13_261Z.png?fit=500%2C500&ssl=1
END:VEVENT
BEGIN:VEVENT
UID:70@nar-anon.pl
DTSTART;TZID=Europe/Warsaw:20250228T200000
DTEND;TZID=Europe/Warsaw:20250228T220000
DTSTAMP:20250218T171154Z
URL:https://www.nar-anon.pl/events/mityng-spikerski-2/
SUMMARY:MITYNG SPIKERSKI
DESCRIPTION:  GRUPA RODZINNA\n\n  NAR-ANON\n\n\,\,RÓWNOWAGA”\n\nSerdec
 znie zaprasza na mityng spikerski 28 Lutego 2025 Piątek Godzina 20:0
 0\n\n na platformie Skype https://join.skype.com/u26V6qJQju9g\n\nTemat 
 spikerki:\n\n\,\,Jakie kroki podjęłam\, aby poznać i zrozumieć wolę m
 ojej Siły Wyższej wobec mnie? Czy miałam obawy\, że wola mojej Siły W
 yższej mogła nie być tym czego chcę?”\n\nDoświadczeniem podzieli si
 ę Ania L\n\n&nbsp\;\n\n&nbsp\;\n\n&nbsp\;\n\n&nbsp\;
ATTACH;FMTTYPE=image/jpeg:https://i0.wp.com/www.nar-anon.pl/wp-content/upl
 oads/2025/02/ImportedPhoto_1739891894263-e1739894722297.jpg?fit=1403%2C198
 5&ssl=1
END:VEVENT
BEGIN:VEVENT
UID:71@nar-anon.pl
DTSTART:20250310T174500Z
DTEND:20250310T191500Z
DTSTAMP:20250303T140533Z
URL:https://www.nar-anon.pl/events/mityng-rocznicowy-grupy-otwarte-serce/
SUMMARY:Mityng Rocznicowy Grupy Otwarte Serce
DESCRIPTION:Grupa Rodzinna Nar-Anon \,\,Otwarte Serce” serdeczne zaprasza
  na Mityng Rocznicowy\n10 Marca 2025 o godzinie 18:45 odbędzie sie mityng
  spikerski członka wspólnoty z NA\n Serdecznie zapraszamy  do udziału 
 w tym wydarzeniu \nAdres:  Osiedle Stare Żegrze 18 \,Poznań 
LOCATION:Poznań\, OSIEDLE STARE ŻEGRZE 18 SALKA KATECHETYCZNA \, Poznań\
 , Polska\, 61-249\, POLSKA\, Poland
X-APPLE-STRUCTURED-LOCATION;VALUE=URI;X-ADDRESS=OSIEDLE STARE ŻEGRZE 18 SA
 LKA KATECHETYCZNA \, Poznań\, Polska\, 61-249\, POLSKA\, Poland;X-APPLE-R
 ADIUS=100;X-TITLE=Poznań:geo:0,0
END:VEVENT
BEGIN:VEVENT
UID:72@nar-anon.pl
DTSTART;TZID=Europe/Warsaw:20250316T200000
DTEND;TZID=Europe/Warsaw:20250316T220000
DTSTAMP:20250309T112227Z
URL:https://www.nar-anon.pl/events/spotkanie-komitetu-sluzb-regionu/
SUMMARY:SPOTKANIE KOMITETU SŁUŻB REGIONU
DESCRIPTION:Komitet Służb Regionu  zaprasza Członków Wspólnoty na spo
 tkanie \n16 marca o godzinie 20:00 - 22:00 na platformie Skype\n\nKSR zach
 ęca wszystkich członków do aktywnego udziału w spotkaniu dotyczącego 
 naszej wspólnoty\, byśmy mogli wspólnie nieść przesłanie dzieląc si
 ę doświadczeniem siłą i nadzieją Nar-Anon.\n\nLink do spotkania:\n\nh
 ttps://join.skype.com/Gn6m1oBUo0jx\n\nZ Pogodą Ducha Członkowie Komitetu
  Służb Regionu\n\n&nbsp\;
CATEGORIES:Kalendarz
END:VEVENT
BEGIN:VEVENT
UID:73@nar-anon.pl
DTSTART:20250321T190000Z
DTEND:20250321T210000Z
DTSTAMP:20250318T083120Z
URL:https://www.nar-anon.pl/events/mityng-spikerski-3/
SUMMARY:MITYNG SPIKERSKI
DESCRIPTION:GRUPA RODZINNA\nNAR-ANON\n\,\,RÓWNOWAGA”\nSerdecznie zaprasz
 a na mityng spikerski 21 Marca 2025 Piątek Godzina 20:00 na platformie Sk
 ype\nLink do spotkania: https://join.skype.com/u26V6qJQju9g\nTemat spikerk
 i:\n \,\,Jak zmieniły się moje relacje z uzależnionymi odkąd przyszła
 m/ przyszedłem do Nar- Anon?"\n\nDoświadczeniem podzieli się Aga Śląs
 k\n
ATTACH;FMTTYPE=image/jpeg:https://i0.wp.com/www.nar-anon.pl/wp-content/upl
 oads/2025/03/PLAKAT_20250318_091702_0000.png?fit=1587%2C2245&ssl=1
END:VEVENT
BEGIN:VEVENT
UID:14@nar-anon.pl
DTSTART;TZID=Europe/Warsaw:20250328T160000
DTEND;TZID=Europe/Warsaw:20250330T130000
DTSTAMP:20250215T085248Z
URL:https://www.nar-anon.pl/events/https-www-nar-anon-pl-event-2500/
SUMMARY:ZLOT NAR-ANON POLSKA
DESCRIPTION:ZLOT  NAR-ANON  POLSKA  2025\nWitajcie Kochani !\n Komitet d
 s. Organizacji Zlotu z radością zaprasza na IV ZLOT NAR-ANON POLSKA\, kt
 óry odbędzie się 28-30 Marca 2025r.\n&nbsp\;\n w Ośrodku Szkoleniowo- 
 Hotelowym \,\,LEŚNE ZACISZE" ALEJA XX - LECIA 3\, 96-515 TERESIN\nhttps:/
 /maps.app.goo.gl/odyCqno1KwTFuFuAA\nKoszt pobytu :\n\n\n 	Dorosły (2 doby
 ) - 340 zł\n 	 Dzieci 3-12 LAT (2 doby) - 170 zł\n 	 Dzieci do 3r.ż - g
 ratis \n\nOśrodek dysponuje do rezerwacji pokoje 4 osobowe. Całkowity ko
 szt pobytu z wyżywieniem (od piątku do niedzieli) to 340 zł. Możliwoś
 ć wykupienia posiłków bez rezerwacji noclegu koszty posiłków:\n• ś
 niadanie - 25 zł \n• obiad - 40 zł \n• kolacja- 25 zł \nNależy zg
 łosić do 25 marca do Koordynatorów Zlotu \n Możliwość posiłku wege
 teriański/gluten free - należy podać przy rezerwacji.\n Rezerwacji pros
 imy dokonywać poprzez wpłatę zaliczki 50% kwoty - płatność do 20 Lut
 ego pozostałość kwoty płatna do 1 Marca. Rezerwacja możliwa do 20 Lut
 ego. Możliwość odwołania rezerwacji i kosztów do 1 lutego.\n W celu r
 ezerwacji prosimy o kontakt z Koordynatorem Zlotu Ewelina lub Sylwia \nW T
 YTULE \,\,ZIot Nar-Anon" IMIĘ I NAZWISKO NA KONTO 35 2490 0005 0000 4100 
 0264 2127\n Pod poniższymi numerami telefonu:\n +48 606 713 701\n +48 506
  593 167\n +353 87 263 7770\n Obowiązkową opłatą jest akredytacja. Mac
 ie dwie możliwości dokonania płatności: \na) na miejscu – płatne 50
  zł za osobę\n b) w przedpłacie na konto Regionu – 40 zł za osobę p
 łatne max. do 20 lutego dzieci - gratis na niżej podane dane:\n Numer ko
 nta : 35 2490 0005 0000 4100 0264 2127 W TYTULE \,\,Akredytacja" IMIĘ I N
 AZWISKO\n Wszelkie pytania dotyczące Zlotu prosimy przesyłać na maila: 
 naranon.region.polska@gmail.com \nbądź do Koordynatorów Zlotu:\n Ewelin
 a +48 606 713 701\n Kamila +353 87 263 7770\n Sylwia +48 506 593 167\n Na 
 ten moment gorąco zachęcamy Was do rezerwowania miejsc w ośrodku. \nHar
 monogram Zlotu\nWidzimy się już w marcu! Ściskamy Was Kochani!\n Z pozd
 rowieniami wdzięczny za służbę Komitet Organizacyjny Zlotu\n&nbsp\;\n\
 n&nbsp\;
ATTACH;FMTTYPE=image/jpeg:https://i0.wp.com/www.nar-anon.pl/wp-content/upl
 oads/2024/10/1_20250215_084916_0000.png?fit=1587%2C2245&ssl=1
LOCATION:Ośrodek Szkoleniowo - Hotelowy "Leśne Zacisze"\, Aleja XX- lecia
  3\, \,  Teresin\, Polska\, 96-515\, Polska\, Poland
X-APPLE-STRUCTURED-LOCATION;VALUE=URI;X-ADDRESS=Aleja XX- lecia 3\, \,  Ter
 esin\, Polska\, 96-515\, Polska\, Poland;X-APPLE-RADIUS=100;X-TITLE=Ośrod
 ek Szkoleniowo - Hotelowy \"Leśne Zacisze\":geo:0,0
END:VEVENT
BEGIN:VEVENT
UID:76@nar-anon.pl
DTSTART:20250329T160000Z
DTEND:20250329T180000Z
DTSTAMP:20250324T174457Z
URL:https://www.nar-anon.pl/events/mityng-spikerski-4/
SUMMARY:MITYNG SPIKERSKI
DESCRIPTION:GRUPY RODZINNE NAR-ANON ZAPRASZAJĄ NA MITYNG SPIKERSKI\, KTÓR
 Y ODBĘDZIE SIĘ NA ZLOCIE \n\n29 MARCA O GODZINIE 17:00\n\nTemat spikerk
 i:\n\n"Jedność - nasze wspólne dobro. Jak zmieniło się moje postępow
 anie odkąd uwzględniam w nim potrzeby wszystkich członków grupy\, wsp
 ólnoty\, rodziny – nie rezygnując z siebie."\n\nSWOIM DOŚWIADCZENIEM 
 PODZIELI SIĘ  ANIA CH💚\n\n&nbsp\;\n\n&nbsp\;
ATTACH;FMTTYPE=image/jpeg:https://i0.wp.com/www.nar-anon.pl/wp-content/upl
 oads/2025/03/1_20250324_182648_0000.png?fit=1587%2C2245&ssl=1
CATEGORIES:Kalendarz
LOCATION:Ośrodek Szkoleniowo - Hotelowy "Leśne Zacisze"\, Aleja XX- lecia
  3\, \,  Teresin\, Polska\, 96-515\, Polska\, Poland
X-APPLE-STRUCTURED-LOCATION;VALUE=URI;X-ADDRESS=Aleja XX- lecia 3\, \,  Ter
 esin\, Polska\, 96-515\, Polska\, Poland;X-APPLE-RADIUS=100;X-TITLE=Ośrod
 ek Szkoleniowo - Hotelowy \"Leśne Zacisze\":geo:0,0
END:VEVENT
BEGIN:VEVENT
UID:75@nar-anon.pl
DTSTART:20250414T230000Z
DTEND:20250415T224500Z
DTSTAMP:20250322T194205Z
URL:https://www.nar-anon.pl/events/poszukiwani-sluzebni-do-ksr/
SUMMARY:POSZUKIWANI  SŁUŻEBNI DO KSR
DESCRIPTION:&nbsp\;\nKomitet Służb Regionu zwraca się do wszystkich Czł
 onków Wspólnoty Nar-Anon i prosi o wsparcie Członków\, którzy mają p
 redyspozycje i czują gotowość do pełnienia danej służby\, abyśmy mo
 gli wspólnie nieść posłanie potrzebującym\, dzieląc się swoją sił
 ą\, nadzieją i doświadczeniem w duchu Nar-Anon. Liczymy na wsparcie Cz
 łonków Wspólnoty Nar-Anon\, aby nasza Polska Wspólnota mogła istnieć
 .\nJest to program „my” i doceniamy każdy wkład we wspólnotę pomag
 ając w dalszym rozwoju Nar-Anon.\nRegion po 15 kwietnia zawiesi swoje dzi
 ałanie\, jeśli powyższe służby nie zostaną objęte.\nCzłonków Wsp
 ólnoty\, którzy są zainteresowani podjęciem służby prosimy o kontakt
  mailowy: naranonpolska@gmail.com\nZ poważaniem Komitet Służb Regionu
ATTACH;FMTTYPE=image/jpeg:https://i0.wp.com/www.nar-anon.pl/wp-content/upl
 oads/2025/02/Pelnienie-sluzby-poza-poziomem-grupy-jest-przywilejem_2025022
 8_105511_0000.png?fit=1080%2C1080&ssl=1
END:VEVENT
BEGIN:VEVENT
UID:74@nar-anon.pl
DTSTART:20250425T140000Z
DTEND:20250428T140000Z
DTSTAMP:20250322T185023Z
URL:https://www.nar-anon.pl/events/swiatowa-konferencja-sluzb/
SUMMARY:ŚWIATOWA KONFERENCJA SŁUŻB
DESCRIPTION:\n\nŚWIATOWA KONFERENCJA SŁUŻB 25 - 28 KWIETNIA GODZINA 15:0
 0 CZAS PL\n\nWypełnij formularz\, aby otrzymać link do spotkania:\n\n ht
 tps://us02web.zoom.us/webinar/register/WN_NHOXy6YSTqmKpmJ9zp__lg#/registra
 tion
ATTACH;FMTTYPE=image/jpeg:https://i0.wp.com/www.nar-anon.pl/wp-content/upl
 oads/2025/03/ImportedPhoto_1742579598853.jpg?fit=965%2C974&ssl=1
CATEGORIES:Kalendarz
END:VEVENT
BEGIN:VEVENT
UID:77@nar-anon.pl
DTSTART:20250609T220000Z
DTEND:20250617T100000Z
DTSTAMP:20250611T105922Z
URL:https://www.nar-anon.pl/events/3649/
SUMMARY:POSZUKIWANI SŁUŻEBNI DO KOMITETU SŁUŻB REGIONU
DESCRIPTION:Poszukiwani Służebni do Komitetu Służb Regionu\, którzy ma
 ją predyspozycje i czują gotowość do podjęcia służby w Komitecie Ko
 lportażu ds. Literatury oraz Koordynatora Komitetu Informacji Publicznej.
  Jeśli czujesz gotowość i masz predyspozycje zgłoś swoją kandydatur
 ę do 17 czerwca 2025 wysyłając maila na adres: naranonpolska@gmail.com\
 n\nJest to program „my” i doceniamy każdy wkład we wspólnotę pomag
 ając w dalszym rozwoju Nar-Anon.\n\nZ poważaniem Komitet Służb Regionu
CATEGORIES:Kalendarz
END:VEVENT
BEGIN:VTIMEZONE
TZID:Europe/Warsaw
X-LIC-LOCATION:Europe/Warsaw
BEGIN:STANDARD
DTSTART:20241027T020000
TZOFFSETFROM:+0200
TZOFFSETTO:+0100
TZNAME:CET
END:STANDARD
BEGIN:DAYLIGHT
DTSTART:20250330T030000
TZOFFSETFROM:+0100
TZOFFSETTO:+0200
TZNAME:CEST
END:DAYLIGHT
END:VTIMEZONE
END:VCALENDAR