BEGIN:VCALENDAR
VERSION:2.0
PRODID:-//   NAR - ANON  - ECPv6.15.15//NONSGML v1.0//EN
CALSCALE:GREGORIAN
METHOD:PUBLISH
X-ORIGINAL-URL:https://www.nar-anon.pl
X-WR-CALDESC:Wydarzenia dla    NAR - ANON 
REFRESH-INTERVAL;VALUE=DURATION:PT1H
X-Robots-Tag:noindex
X-PUBLISHED-TTL:PT1H
BEGIN:VTIMEZONE
TZID:UTC
BEGIN:STANDARD
TZOFFSETFROM:+0000
TZOFFSETTO:+0000
TZNAME:UTC
DTSTART:20240101T000000
END:STANDARD
END:VTIMEZONE
BEGIN:VTIMEZONE
TZID:Europe/Paris
BEGIN:DAYLIGHT
TZOFFSETFROM:+0100
TZOFFSETTO:+0200
TZNAME:CEST
DTSTART:20240331T010000
END:DAYLIGHT
BEGIN:STANDARD
TZOFFSETFROM:+0200
TZOFFSETTO:+0100
TZNAME:CET
DTSTART:20241027T010000
END:STANDARD
BEGIN:DAYLIGHT
TZOFFSETFROM:+0100
TZOFFSETTO:+0200
TZNAME:CEST
DTSTART:20250330T010000
END:DAYLIGHT
BEGIN:STANDARD
TZOFFSETFROM:+0200
TZOFFSETTO:+0100
TZNAME:CET
DTSTART:20251026T010000
END:STANDARD
BEGIN:DAYLIGHT
TZOFFSETFROM:+0100
TZOFFSETTO:+0200
TZNAME:CEST
DTSTART:20260329T010000
END:DAYLIGHT
BEGIN:STANDARD
TZOFFSETFROM:+0200
TZOFFSETTO:+0100
TZNAME:CET
DTSTART:20261025T010000
END:STANDARD
END:VTIMEZONE
BEGIN:VTIMEZONE
TZID:Europe/Warsaw
BEGIN:DAYLIGHT
TZOFFSETFROM:+0100
TZOFFSETTO:+0200
TZNAME:CEST
DTSTART:20240331T010000
END:DAYLIGHT
BEGIN:STANDARD
TZOFFSETFROM:+0200
TZOFFSETTO:+0100
TZNAME:CET
DTSTART:20241027T010000
END:STANDARD
BEGIN:DAYLIGHT
TZOFFSETFROM:+0100
TZOFFSETTO:+0200
TZNAME:CEST
DTSTART:20250330T010000
END:DAYLIGHT
BEGIN:STANDARD
TZOFFSETFROM:+0200
TZOFFSETTO:+0100
TZNAME:CET
DTSTART:20251026T010000
END:STANDARD
BEGIN:DAYLIGHT
TZOFFSETFROM:+0100
TZOFFSETTO:+0200
TZNAME:CEST
DTSTART:20260329T010000
END:DAYLIGHT
BEGIN:STANDARD
TZOFFSETFROM:+0200
TZOFFSETTO:+0100
TZNAME:CET
DTSTART:20261025T010000
END:STANDARD
END:VTIMEZONE
BEGIN:VEVENT
DTSTART;TZID=UTC:20250221T200000
DTEND;TZID=UTC:20250221T220000
DTSTAMP:20260420T152704
CREATED:20250201T141408Z
LAST-MODIFIED:20250201T141408Z
UID:3362-1740168000-1740175200@www.nar-anon.pl
SUMMARY:Mityng Online Grupy Równowaga
DESCRIPTION:Mityngi Grupy Równowaga odbywają się w każdy poniedziałek i piątek na platformie Skype.  \nLink do mityngu https://join.skype.com/u26V6qJQju9g 
URL:https://www.nar-anon.pl/event/mityng-online-grupy-rownowaga-5/
CATEGORIES:Kalendarz
END:VEVENT
BEGIN:VEVENT
DTSTART;TZID=UTC:20250223T170000
DTEND;TZID=UTC:20250223T170000
DTSTAMP:20260420T152704
CREATED:20250210T103726Z
LAST-MODIFIED:20250210T104723Z
UID:3421-1740330000-1740330000@www.nar-anon.pl
SUMMARY:SEKRETARZE PRZY OKRĄGŁYM STOLE
DESCRIPTION:  \n  \n  \n  \n  \n  \n  \n  \n  \nŚwiatowy Komitet Służb Ad Hoc ds. Rozwoju Struktury Służb Nar-Anon zaprasza na spotkanie przy Okrągłym Stole Sekretarzy Grup Rodzinnych Nar-Anon 23 Lutego 2025 Niedziela Godzinie 17:00 Czasu PL Spotkanie odbędzie się na platformie Zoom \n Aby dołączyć do okrągłego stołu: https://us02web.zoom.us/j/83033728391?pwd=QnhTODRrSVZHN3Rsd2NUaUYwemlWQT09 \n ID spotkania: 830 3372 8391 Kod dostępu: 558110
URL:https://www.nar-anon.pl/event/sekretarze-przy-okragllym-stole/
CATEGORIES:Kalendarz
END:VEVENT
BEGIN:VEVENT
DTSTART;TZID=UTC:20250224T100000
DTEND;TZID=UTC:20250224T113000
DTSTAMP:20260420T152704
CREATED:20250201T140527Z
LAST-MODIFIED:20250201T140527Z
UID:3356-1740391200-1740396600@www.nar-anon.pl
SUMMARY:Mityng Online Grupy Równowaga
DESCRIPTION:  \n  \n  \n  \n  \n  \n  \n  \nMityng Grupy Równowaga odbywa się w każdy poniedziałek i piątek na platformie Skype. \n Link do mityngu https://join.skype.com/u26V6qJQju9g 
URL:https://www.nar-anon.pl/event/mityng-online-grupy-rownowaga-3/
CATEGORIES:Kalendarz
END:VEVENT
BEGIN:VEVENT
DTSTART;TZID=UTC:20250228T200000
DTEND;TZID=UTC:20250228T220000
DTSTAMP:20260420T152704
CREATED:20250201T141714Z
LAST-MODIFIED:20250201T141714Z
UID:3364-1740772800-1740780000@www.nar-anon.pl
SUMMARY:Mityng Online  Grupy Równowaga
DESCRIPTION:Mityng Grupy Równowaga odbywa się w każdy poniedziałek i piątek na platformie Skype. \nLink do mityngu https://join.skype.com/u26V6qJQju9g 
URL:https://www.nar-anon.pl/event/mityng-online-grupy-rownowaga-6/
CATEGORIES:Kalendarz
END:VEVENT
BEGIN:VEVENT
DTSTART;TZID=UTC:20250228T200000
DTEND;TZID=UTC:20250228T220000
DTSTAMP:20260420T152704
CREATED:20250218T152419Z
LAST-MODIFIED:20250218T162106Z
UID:3443-1740772800-1740780000@www.nar-anon.pl
SUMMARY:MITYNG SPIKERSKI
DESCRIPTION:  GRUPA RODZINNA \n  NAR-ANON \n\,\,RÓWNOWAGA” \nSerdecznie zaprasza na mityng spikerski 28 Lutego 2025 Piątek Godzina 20:00 na platformie Skype https://join.skype.com/u26V6qJQju9g \nTemat spikerki: \n\,\,Jakie kroki podjęłam\, aby poznać i zrozumieć wolę mojej Siły Wyższej wobec mnie? Czy miałam obawy\, że wola mojej Siły Wyższej mogła nie być tym czego chcę?” \nDoświadczeniem podzieli się Ania L \n 
URL:https://www.nar-anon.pl/event/mityng-spikerski-2/
CATEGORIES:Kalendarz
END:VEVENT
BEGIN:VEVENT
DTSTART;TZID=UTC:20250303T100000
DTEND;TZID=UTC:20250303T113000
DTSTAMP:20260420T152704
CREATED:20250207T195647Z
LAST-MODIFIED:20250207T195647Z
UID:3398-1740996000-1741001400@www.nar-anon.pl
SUMMARY:Mityng Online Grupy Równowaga
DESCRIPTION:  \n  \n  \n  \n  \n  \n  \n  \nMityng Grupy Równowaga odbywa się w każdy poniedziałek i piątek na platformie Skype. \nLink do mityngu https://join.skype.com/u26V6qJQju9g 
URL:https://www.nar-anon.pl/event/mityng-online-grupy-rownowaga-8/
CATEGORIES:Kalendarz
END:VEVENT
BEGIN:VEVENT
DTSTART;TZID=UTC:20250307T200000
DTEND;TZID=UTC:20250307T220000
DTSTAMP:20260420T152704
CREATED:20250207T195203Z
LAST-MODIFIED:20250207T195331Z
UID:3396-1741377600-1741384800@www.nar-anon.pl
SUMMARY:Mityng Online Grupy Równowaga
DESCRIPTION:  \n  \n  \n  \n  \n  \n  \n  \n  \nMityng Grupy Równowaga odbywa się w każdy poniedziałek i piątek na platformie Skype. \nLink do mityngu https://join.skype.com/u26V6qJQju9g
URL:https://www.nar-anon.pl/event/mityng-online-grupy-rownowaga-7/
CATEGORIES:Kalendarz
END:VEVENT
BEGIN:VEVENT
DTSTART;TZID=UTC:20250310T100000
DTEND;TZID=UTC:20250310T113000
DTSTAMP:20260420T152704
CREATED:20250207T195925Z
LAST-MODIFIED:20250207T195953Z
UID:3400-1741600800-1741606200@www.nar-anon.pl
SUMMARY:Mityng Online Grupy Równowaga
DESCRIPTION:  \n  \n  \n  \n  \n  \n  \n  \n  \nMityng Grupy Równowaga odbywa się w każdy poniedziałek i piątek na platformie Skype. \nLink do mityngu https://join.skype.com/u26V6qJQju9g 
URL:https://www.nar-anon.pl/event/3400/
CATEGORIES:Kalendarz
END:VEVENT
BEGIN:VEVENT
DTSTART;TZID=Europe/Paris:20250310T184500
DTEND;TZID=Europe/Paris:20250310T201500
DTSTAMP:20260420T152704
CREATED:20250303T134329Z
LAST-MODIFIED:20250303T140631Z
UID:3502-1741632300-1741637700@www.nar-anon.pl
SUMMARY:Mityng Rocznicowy Grupy Otwarte Serce
DESCRIPTION:Grupa Rodzinna Nar-Anon \,\,Otwarte Serce” serdeczne zaprasza na Mityng Rocznicowy \n10 Marca 2025 o godzinie 18:45 odbędzie sie mityng spikerski członka wspólnoty z NA Serdecznie zapraszamy   \n  \nAdres:  Osiedle Stare Żegrze 18 \,Poznań 
URL:https://www.nar-anon.pl/event/mityng-rocznicowy-grupy-otwarte-serce-2/
LOCATION:Poznań Osiedle Stare Zegrze 18
CATEGORIES:Kalendarz
END:VEVENT
BEGIN:VEVENT
DTSTART;TZID=UTC:20250314T200000
DTEND;TZID=UTC:20250314T220000
DTSTAMP:20260420T152704
CREATED:20250207T200221Z
LAST-MODIFIED:20250207T200221Z
UID:3403-1741982400-1741989600@www.nar-anon.pl
SUMMARY:Mityng Online Grupy Równowaga
DESCRIPTION:  \n  \n  \n  \n  \n  \n  \n  \n  \nMityng Grupy Równowaga odbywa się w każdy poniedziałek i piątek na platformie Skype. \nLink do mityngu https://join.skype.com/u26V6qJQju9g 
URL:https://www.nar-anon.pl/event/mityng-online-grupy-rownowaga-9/
CATEGORIES:Kalendarz
END:VEVENT
BEGIN:VEVENT
DTSTART;TZID=Europe/Warsaw:20250316T200000
DTEND;TZID=Europe/Warsaw:20250316T220000
DTSTAMP:20260420T152704
CREATED:20250309T103959Z
LAST-MODIFIED:20250309T112014Z
UID:3512-1742155200-1742162400@www.nar-anon.pl
SUMMARY:SPOTKANIE KOMITETU SŁUŻB REGIONU
DESCRIPTION:Komitet Służb Regionu zaprasza Członków Wspólnoty na spotkanie \n16 marca o godzinie 20:00 – 22:00 na platformie Skype \nKSR zachęca wszystkich członków do aktywnego udziału w spotkaniu dotyczącego naszej wspólnoty\, byśmy mogli wspólnie nieść przesłanie dzieląc się doświadczeniem siłą i nadzieją Nar-Anon. \nLink do spotkania: \nhttps://join.skype.com/Gn6m1oBUo0jx \nZ Pogodą Ducha Członkowie Komitetu Służb Regionu
URL:https://www.nar-anon.pl/event/spotkanie-komitetu-sluzb-regionu/
LOCATION:https://join.skype.com/Gn6m1oBUo0jx
CATEGORIES:Kalendarz
END:VEVENT
BEGIN:VEVENT
DTSTART;TZID=UTC:20250317T100000
DTEND;TZID=UTC:20250317T103000
DTSTAMP:20260420T152704
CREATED:20250207T200611Z
LAST-MODIFIED:20250207T200611Z
UID:3405-1742205600-1742207400@www.nar-anon.pl
SUMMARY:Mityng Online Grupy Równowaga
DESCRIPTION:  \n  \n  \n  \n  \n  \n  \n  \n  \nMityng Grupy Równowaga odbywa się w każdy poniedziałek i piątek na platformie Skype. \nLink do mityngu https://join.skype.com/u26V6qJQju9g 
URL:https://www.nar-anon.pl/event/mityng-online-grupy-rownowaga-10/
CATEGORIES:Kalendarz
END:VEVENT
BEGIN:VEVENT
DTSTART;TZID=UTC:20250321T200000
DTEND;TZID=UTC:20250321T220000
DTSTAMP:20260420T152704
CREATED:20250207T201009Z
LAST-MODIFIED:20250207T201009Z
UID:3407-1742587200-1742594400@www.nar-anon.pl
SUMMARY:Mityng Online Grupy Równowaga
DESCRIPTION:Mityng Grupy Równowaga odbywa się w każdy poniedziałek i piątek na platformie Skype. \nLink do mityngu https://join.skype.com/u26V6qJQju9g
URL:https://www.nar-anon.pl/event/mityng-online-grupy-rownowaga-11/
CATEGORIES:Kalendarz
END:VEVENT
BEGIN:VEVENT
DTSTART;TZID=UTC:20250321T200000
DTEND;TZID=UTC:20250321T220000
DTSTAMP:20260420T152704
CREATED:20250318T080044Z
LAST-MODIFIED:20250318T082139Z
UID:3526-1742587200-1742594400@www.nar-anon.pl
SUMMARY:MITYNG SPIKERSKI
DESCRIPTION:GRUPA RODZINNA \nNAR-ANON \n\,\,RÓWNOWAGA” \nSerdecznie zaprasza na mityng spikerski 21 Marca 2025 Piątek Godzina 20:00 na platformie Skype \nLink do spotkania: https://join.skype.com/u26V6qJQju9g \nTemat spikerki: \n \,\,Jak zmieniły się moje relacje z uzależnionymi odkąd przyszłam/ przyszedłem do Nar- Anon?” \nDoświadczeniem podzieli się Aga Śląsk \n 
URL:https://www.nar-anon.pl/event/mityng-spikerski-3/
CATEGORIES:Kalendarz
ATTACH;FMTTYPE=image/png:https://www.nar-anon.pl/wp-content/uploads/2025/03/PLAKAT_20250318_091702_0000.png
END:VEVENT
BEGIN:VEVENT
DTSTART;TZID=UTC:20250324T100000
DTEND;TZID=UTC:20250324T113000
DTSTAMP:20260420T152704
CREATED:20250207T201233Z
LAST-MODIFIED:20250207T201233Z
UID:3409-1742810400-1742815800@www.nar-anon.pl
SUMMARY:Mityng Online Grupy Równowaga
DESCRIPTION:  \n  \n  \n  \n  \n  \n  \n  \nMityng Grupy Równowaga odbywa się w każdy poniedziałek i piątek na platformie Skype. \nLink do mityngu https://join.skype.com/u26V6qJQju9g 
URL:https://www.nar-anon.pl/event/mityng-online-grupy-rownowaga-12/
CATEGORIES:Kalendarz
END:VEVENT
BEGIN:VEVENT
DTSTART;TZID=UTC:20250328T080000
DTEND;TZID=UTC:20250328T220000
DTSTAMP:20260420T152704
CREATED:20250207T203410Z
LAST-MODIFIED:20250207T203410Z
UID:3414-1743148800-1743199200@www.nar-anon.pl
SUMMARY:Mityng Online Grupy Równowaga
DESCRIPTION:  \n  \n  \n  \n  \n  \n  \n  \n  \nMityng Grupy Równowaga odbywa się w każdy poniedziałek i piątek na platformie Skype. \nLink do mityngu https://join.skype.com/u26V6qJQju9g 
URL:https://www.nar-anon.pl/event/mityng-online-grupy-rownowaga-13/
CATEGORIES:Kalendarz
END:VEVENT
BEGIN:VEVENT
DTSTART;TZID=UTC:20250328T080000
DTEND;TZID=UTC:20250330T080000
DTSTAMP:20260420T152704
CREATED:20241020T151314Z
LAST-MODIFIED:20250605T144927Z
UID:2500-1743148800-1743321600@www.nar-anon.pl
SUMMARY:Zlot Nar-Anon Polska
DESCRIPTION:  \n  \n  \n  \n 
URL:https://www.nar-anon.pl/event/2500/
LOCATION:Ośrodek Szkoleniowo – Hotelowy „Leśne Zacisze” Aleja XX- lecia 3\, 96-515 Teresin\, Aleja XX- lecia 3\,\, Teresin\, Mazowieckie\, 96-515\, Poland
CATEGORIES:Kalendarz
ATTACH;FMTTYPE=image/png:https://www.nar-anon.pl/wp-content/uploads/2024/10/1_20250215_084916_0000.png
ORGANIZER;CN="KOMITET DS. ORGANIZACJI ZLOTU":MAILTO:naranon.region.polska@gmail.com
END:VEVENT
BEGIN:VEVENT
DTSTART;TZID=Europe/Paris:20250329T170000
DTEND;TZID=Europe/Paris:20250329T190000
DTSTAMP:20260420T152704
CREATED:20250324T173134Z
LAST-MODIFIED:20250324T173424Z
UID:3561-1743267600-1743274800@www.nar-anon.pl
SUMMARY:MITING SPIKERSKI
DESCRIPTION:  \nGRUPY RODZINNE NAR-ANON ZAPRASZAJĄ NA MITYNG SPIKERSKI\, KTÓRY ODBĘDZIE SIĘ NA ZLOCIE  \n29 MARCA O GODZINIE 17:00 \nSWOIM DOŚWIADCZENIEM PODZIELI SIĘ  ANIA CH 💚 \n 
URL:https://www.nar-anon.pl/event/miting-spikerski/
LOCATION:Ośrodek Szkoleniowo – Hotelowy „Leśne Zacisze” Aleja XX- lecia 3\, 96-515 Teresin\, Aleja XX- lecia 3\,\, Teresin\, Mazowieckie\, 96-515\, Poland
CATEGORIES:Kalendarz
ATTACH;FMTTYPE=image/png:https://www.nar-anon.pl/wp-content/uploads/2025/03/1_20250324_182648_0000.png
END:VEVENT
BEGIN:VEVENT
DTSTART;TZID=UTC:20250331T100000
DTEND;TZID=UTC:20250331T113000
DTSTAMP:20260420T152704
CREATED:20250207T201418Z
LAST-MODIFIED:20250207T201433Z
UID:3411-1743415200-1743420600@www.nar-anon.pl
SUMMARY:Mityng Online Grupy Równowaga
DESCRIPTION:  \n  \n  \n  \n  \n  \n  \n  \n  \nMityng Grupy Równowaga odbywa się w każdy poniedziałek i piątek na platformie Skype. \nLink do mityngu https://join.skype.com/u26V6qJQju9g 
URL:https://www.nar-anon.pl/event/3411/
CATEGORIES:Kalendarz
END:VEVENT
BEGIN:VEVENT
DTSTART;TZID=Europe/Paris:20250425T150000
DTEND;TZID=Europe/Paris:20250428T170000
DTSTAMP:20260420T152704
CREATED:20250322T190508Z
LAST-MODIFIED:20250322T191336Z
UID:3550-1745593200-1745859600@www.nar-anon.pl
SUMMARY:ŚWIATOWA KONFERENCJA SŁUŻB 2025
DESCRIPTION:ŚWIATOWA KONFERENCJA SŁUŻB 25 – 28 KWIETNIA GODZINA 15:00 CZAS  PL \nWypełnij formularz\, aby otrzymać link do spotkania: https://us02web.zoom.us/webinar/register/WN_NHOXy6YSTqmKpmJ9zp__lg#/registration \nZałączona Ulotka\nObserwatora Wielojęzycznego została stworzona\, aby podzielić się nią z grupami w Twoim regionie. \n Zawiera bezpośredni link do rejestracji.  \nWSC+2025+Observers+Flyer
URL:https://www.nar-anon.pl/event/swiatowa-konferencja-sluzb-2025/
CATEGORIES:Kalendarz
ORGANIZER;CN="%C5%9AWIATOWA KONFERENCJA S%C5%81U%C5%BBB":MAILTO:wscconference@nar-anon.org
END:VEVENT
BEGIN:VEVENT
DTSTART;TZID=UTC:20250611T000000
DTEND;TZID=UTC:20250617T120000
DTSTAMP:20260420T152704
CREATED:20250611T094725Z
LAST-MODIFIED:20250611T104727Z
UID:3643-1749600000-1750161600@www.nar-anon.pl
SUMMARY:POSZUKIWANI SŁUŻEBNI DO KOMITETU SŁUŻB REGIONU
DESCRIPTION:Poszukiwani Służebni do Komitetu Służb Regionu\, którzy mają predyspozycje i czują gotowość do podjęcia służby w Komitecie Kolportażu ds. Literatury oraz Koordynatora Komitetu Informacji Publicznej. Jeśli czujesz gotowość i masz predyspozycje zgłoś swoją kandydaturę do 17 czerwca 2025 wysyłając maila na adres: naranonpolska@gmail.com \nJest to program „my” i doceniamy każdy wkład we wspólnotę pomagając w dalszym rozwoju Nar-Anon. \n\nWróć Twoja wiadomość została wysłana\n\n\n					\n						\n						\n						\n							\n								\n									\n									\n								\n							\n						\n					\n				\n\n\n\nName(wymagane)\n\n \n			\n				\n					\n						\n						\n						\n					\n					Ostrzeżenie\n				\n				\n			 \n	\n\n\nEmail(wymagane)\n\n \n			\n				\n					\n						\n						\n						\n					\n					Ostrzeżenie\n				\n				\n			 \n	\n\n\nWebsite\n\n \n			\n				\n					\n						\n						\n						\n					\n					Ostrzeżenie\n				\n				\n			 \n	\n\n\nMessage\n\n \n			\n				\n					\n						\n						\n						\n					\n					Ostrzeżenie\n				\n				\n			\n	\n	\nOstrzeżenie.\n				\n				\n				\n					\n				\n						Wyślij		\n		\n		\n	 \nΔ \n \nZ poważaniem Komitet Służb Regionu
URL:https://www.nar-anon.pl/event/poszukiwani-sluzebni-do-komitetu-sluzb-regionu/
CATEGORIES:Kalendarz
END:VEVENT
END:VCALENDAR