BEGIN:VCALENDAR
VERSION:2.0
PRODID:-//wp-events-plugin.com//7.2.3.1//EN
BEGIN:VEVENT
UID:19@nar-anon.pl
DTSTART;TZID=Europe/Warsaw:20250117T013000
DTEND;TZID=Europe/Warsaw:20250117T033000
DTSTAMP:20250108T143106Z
URL:https://www.nar-anon.pl/events/mityng-spikerski-19-rocznicy-w-nar-anon
 /
SUMMARY:Mityng Spikerski 19 Rocznicy w Nar-Anon
DESCRIPTION:Grupa Rodzinna Willow Grove zaprasza na mityng spikerski z okaz
 ji 19 Rocznicy w Nar-Anon.\n\nSpotkanie odbędzie się na platformie Zoom
  17 Stycznia 2025 o godzinie 1:30 czasu PL\n\nPoniżej znajduje się link 
 do mityngu:\n\nhttps://us02web.zoom.us/j/85804395394?pwd=aVVyMDE2eWh\n\nKo
 d dostępu: Serenity\n\nWillow Grove\, na dobrej drodze 19 Rocznica w Nar
 -Anon.pdf\n\nhttps://www.nar-anon.org/s/2025-Anniversary-Flyer.pdf\n\n\n\n
 &nbsp\;
END:VEVENT
BEGIN:VTIMEZONE
TZID:Europe/Warsaw
X-LIC-LOCATION:Europe/Warsaw
BEGIN:STANDARD
DTSTART:20241027T020000
TZOFFSETFROM:+0200
TZOFFSETTO:+0100
TZNAME:CET
END:STANDARD
END:VTIMEZONE
END:VCALENDAR