BEGIN:VCALENDAR
VERSION:2.0
PRODID:-//wp-events-plugin.com//7.2.3.1//EN
BEGIN:VEVENT
UID:18@nar-anon.pl
DTSTART;TZID=Europe/Warsaw:20250124T200000
DTEND;TZID=Europe/Warsaw:20250124T220000
DTSTAMP:20250107T093108Z
URL:https://www.nar-anon.pl/events/mityng-spikerski/
SUMMARY:MITYNG SPIKERSKI
DESCRIPTION:GRUPA RODZINNA \nNAR-ANON\n \,\,RÓWNOWAGA\,\,\nSerdecznie zapr
 asza na mityng spikerski 24 Stycznia 2025r. Piątek Godzina 20:00 na platf
 ormie Skype  https://join.skype.com/u26V6qJQju9g\nTemat spikerki:\n \,\,C
 zy wspólnota Nar-Anon pomogła otworzyć mój umysł na możliwość nowe
 go sposobu życia?"\nDoświadczeniem podzieli się\n Izabela\n\n\n\n&nbsp\
 ;
END:VEVENT
BEGIN:VTIMEZONE
TZID:Europe/Warsaw
X-LIC-LOCATION:Europe/Warsaw
BEGIN:STANDARD
DTSTART:20241027T020000
TZOFFSETFROM:+0200
TZOFFSETTO:+0100
TZNAME:CET
END:STANDARD
END:VTIMEZONE
END:VCALENDAR